BEGIN:VCALENDAR
VERSION:2.0
PRODID:-//Amayesing Graze - ECPv6.15.17//NONSGML v1.0//EN
CALSCALE:GREGORIAN
METHOD:PUBLISH
X-WR-CALNAME:Amayesing Graze
X-ORIGINAL-URL:https://amayesinggraze.com
X-WR-CALDESC:Events for Amayesing Graze
REFRESH-INTERVAL;VALUE=DURATION:PT1H
X-Robots-Tag:noindex
X-PUBLISHED-TTL:PT1H
BEGIN:VTIMEZONE
TZID:America/Detroit
BEGIN:DAYLIGHT
TZOFFSETFROM:-0500
TZOFFSETTO:-0400
TZNAME:EDT
DTSTART:20240310T070000
END:DAYLIGHT
BEGIN:STANDARD
TZOFFSETFROM:-0400
TZOFFSETTO:-0500
TZNAME:EST
DTSTART:20241103T060000
END:STANDARD
BEGIN:DAYLIGHT
TZOFFSETFROM:-0500
TZOFFSETTO:-0400
TZNAME:EDT
DTSTART:20250309T070000
END:DAYLIGHT
BEGIN:STANDARD
TZOFFSETFROM:-0400
TZOFFSETTO:-0500
TZNAME:EST
DTSTART:20251102T060000
END:STANDARD
BEGIN:DAYLIGHT
TZOFFSETFROM:-0500
TZOFFSETTO:-0400
TZNAME:EDT
DTSTART:20260308T070000
END:DAYLIGHT
BEGIN:STANDARD
TZOFFSETFROM:-0400
TZOFFSETTO:-0500
TZNAME:EST
DTSTART:20261101T060000
END:STANDARD
END:VTIMEZONE
BEGIN:VEVENT
DTSTART;TZID=America/Detroit:20250928T120000
DTEND;TZID=America/Detroit:20250928T150000
DTSTAMP:20260423T181113
CREATED:20250909T115215Z
LAST-MODIFIED:20250918T051011Z
UID:10000014-1759060800-1759071600@amayesinggraze.com
SUMMARY:✨ Sweet & Savory: Charcuterie & Cookie Decorating Workshop ✨
DESCRIPTION:We’re bringing together the best of both worlds in this special collaboration between Amayesing Graze and Coco’s Confections! This interactive workshop is designed to give you hands-on experience in two culinary arts: building a stunning charcuterie board and decorating beautiful sugar cookies. \n🍇 Charcuterie with Amayesing GrazeLearn the tips and techniques Danielle uses to create her signature grazing boards. You’ll explore how to fold meats\, cut cheeses\, style fruits and accompaniments\, and balance colors and textures to design a board that looks as amazing as it tastes. Danielle will also share her go-to pairings\, styling tricks\, and presentation ideas so you can confidently recreate a professional-quality board at home. \n🍪 Cookie Decorating with Coco’s ConfectionsCoco will guide you through the basics of royal icing decorating. You’ll practice outlining\, flooding\, and adding decorative details that transform simple sugar cookies into edible works of art. From piping precision to color blending\, you’ll leave with new skills you can use for any season or celebration. \n✨ What You’ll Take HomeBy the end of class\, you’ll walk away with: \n\n\nA beautifully styled personal charcuterie board ready to enjoy or share \n\n\nA set of hand-decorated cookies to show off (or snack on!) \n\n\nThe knowledge\, skills\, and confidence to recreate both at home for holidays\, parties\, or just because \n\n\nThis workshop is perfect for friends\, couples\, or anyone looking for a fun and creative afternoon out. No prior experience is required — just bring your creativity and a love for food! \nThe Bridge + Main Tap Cart will be open during class\, so you’ll have the opportunity to enjoy a cocktail or mocktail while you decorate! \n**All sales are final; no refunds can be given. If you have to cancel\, you’ll receive a credit toward a future class as long as it’s more than 2 weeks prior to your scheduled class date. You MAY transfer your registration to another person if you can not attend. Space is limited\, so you must be registered in order to attend. This class is recommended for ages 10+\, but is open to all**
URL:https://amayesinggraze.com/event/%e2%9c%a8-sweet-savory-charcuterie-cookie-decorating-workshop-%e2%9c%a8/
LOCATION:The Plant Studio at Bridge + Main Market\, 125 N Bridge St\, DeWitt\, MI\, 48820\, United States
ATTACH;FMTTYPE=image/webp:https://amayesinggraze.com/wp-content/uploads/2025/09/Sweet-Savory.webp
ORGANIZER;CN="Amayesing Graze":MAILTO:danielle@amayesinggraze.com
END:VEVENT
END:VCALENDAR