BEGIN:VCALENDAR
VERSION:2.0
PRODID:-//Amayesing Graze - ECPv6.15.17//NONSGML v1.0//EN
CALSCALE:GREGORIAN
METHOD:PUBLISH
X-WR-CALNAME:Amayesing Graze
X-ORIGINAL-URL:https://amayesinggraze.com
X-WR-CALDESC:Events for Amayesing Graze
REFRESH-INTERVAL;VALUE=DURATION:PT1H
X-Robots-Tag:noindex
X-PUBLISHED-TTL:PT1H
BEGIN:VTIMEZONE
TZID:America/Detroit
BEGIN:DAYLIGHT
TZOFFSETFROM:-0500
TZOFFSETTO:-0400
TZNAME:EDT
DTSTART:20250309T070000
END:DAYLIGHT
BEGIN:STANDARD
TZOFFSETFROM:-0400
TZOFFSETTO:-0500
TZNAME:EST
DTSTART:20251102T060000
END:STANDARD
BEGIN:DAYLIGHT
TZOFFSETFROM:-0500
TZOFFSETTO:-0400
TZNAME:EDT
DTSTART:20260308T070000
END:DAYLIGHT
BEGIN:STANDARD
TZOFFSETFROM:-0400
TZOFFSETTO:-0500
TZNAME:EST
DTSTART:20261101T060000
END:STANDARD
BEGIN:DAYLIGHT
TZOFFSETFROM:-0500
TZOFFSETTO:-0400
TZNAME:EDT
DTSTART:20270314T070000
END:DAYLIGHT
BEGIN:STANDARD
TZOFFSETFROM:-0400
TZOFFSETTO:-0500
TZNAME:EST
DTSTART:20271107T060000
END:STANDARD
END:VTIMEZONE
BEGIN:VEVENT
DTSTART;TZID=America/Detroit:20260506T180000
DTEND;TZID=America/Detroit:20260506T190000
DTSTAMP:20260423T145114
CREATED:20260409T042655Z
LAST-MODIFIED:20260409T042655Z
UID:10000016-1778090400-1778094000@amayesinggraze.com
SUMMARY:Made for Mom: A Mother’s Day Charcuterie Workshop
DESCRIPTION:Join us for a beautiful and hands-on celebration at Amayesing Graze’s “Made for Mom: A Mother’s Day Charcuterie Workshop” — the perfect way to celebrate moms\, mother figures\, and the incredible women who do it all. This special event will take place at Capital City Market on May 6th at 6 p.m.\, offering an evening filled with creativity\, connection\, and delicious inspiration. \nWhether you’re treating yourself\, bringing your mom\, or planning a memorable girls’ night out\, this workshop is designed to make Mother’s Day feel extra special. Led by Danielle Mayes\, founder of Amayesing Graze\, guests will learn how to build a stunning and well-balanced charcuterie board using premium cheeses\, cured meats\, fresh fruit\, and sweet seasonal touches. Danielle will also share tips on styling\, pairing\, and presentation so each guest leaves with a board that feels as beautiful as it is delicious. \nAs a special part of the experience\, all featured ingredients will be sourced from items available at Capital City Market\, making it easy to recreate your board at home for Mother’s Day gatherings\, brunches\, or thoughtful gifting. \n\n\n \n\nCharcuterie Workshop Description\n\nDuring this one-hour interactive workshop\, guests will enjoy delicious samples\, learn expert styling techniques\, and discover simple tips for creating a charcuterie board that feels both beautiful and intentional. From balancing flavors and textures to arranging ingredients in a way that truly stands out\, this experience is designed to be as fun as it is inspiring. \nAt the end of the class\, each guest will leave with their own handcrafted charcuterie board — a gorgeous Mother’s Day creation perfect for brunch celebrations\, gifting to someone special\, or enjoying at home. This workshop is a wonderful experience for moms\, daughters\, grandmothers\, sisters\, and friends looking to celebrate the amazing women in their lives. Space is limited\, so early registration is encouraged. \n\nWe offer two ticket options for this Interactive Charcuterie Workshop:\nOption 1: Individual Ticket – $75\nThis ticket is for one person and includes everything needed to attend the workshop and create one charcuterie board. \nOption 2: Mom and Me Ticket – $105\nThis ticket is for two people and includes everything needed for both attendees to share and create one charcuterie board together. \nChoose the Interactive Charcuterie Workshop option that works best for you and your group! \nCharcuterie Workshop Grazing Board \n\nRead a blog written by Pamela Patton about Charcuterie Workshops with Amayesing Graze and Capital City Market here.
URL:https://amayesinggraze.com/event/made-for-mom-a-mothers-day-charcuterie-workshop/
LOCATION:Capital City Market\, 600 E Michigan Ave Suite 100\, Lansing\, 48912\, United States
CATEGORIES:Charcuterie Workshops
ATTACH;FMTTYPE=image/webp:https://amayesinggraze.com/wp-content/uploads/2025/04/mothers-day.webp
ORGANIZER;CN="Amayesing Graze":MAILTO:danielle@amayesinggraze.com
END:VEVENT
END:VCALENDAR