BEGIN:VCALENDAR
VERSION:2.0
PRODID:-//Amayesing Graze - ECPv6.15.17//NONSGML v1.0//EN
CALSCALE:GREGORIAN
METHOD:PUBLISH
X-WR-CALNAME:Amayesing Graze
X-ORIGINAL-URL:https://amayesinggraze.com
X-WR-CALDESC:Events for Amayesing Graze
REFRESH-INTERVAL;VALUE=DURATION:PT1H
X-Robots-Tag:noindex
X-PUBLISHED-TTL:PT1H
BEGIN:VTIMEZONE
TZID:America/Detroit
BEGIN:DAYLIGHT
TZOFFSETFROM:-0500
TZOFFSETTO:-0400
TZNAME:EDT
DTSTART:20230312T070000
END:DAYLIGHT
BEGIN:STANDARD
TZOFFSETFROM:-0400
TZOFFSETTO:-0500
TZNAME:EST
DTSTART:20231105T060000
END:STANDARD
BEGIN:DAYLIGHT
TZOFFSETFROM:-0500
TZOFFSETTO:-0400
TZNAME:EDT
DTSTART:20240310T070000
END:DAYLIGHT
BEGIN:STANDARD
TZOFFSETFROM:-0400
TZOFFSETTO:-0500
TZNAME:EST
DTSTART:20241103T060000
END:STANDARD
BEGIN:DAYLIGHT
TZOFFSETFROM:-0500
TZOFFSETTO:-0400
TZNAME:EDT
DTSTART:20250309T070000
END:DAYLIGHT
BEGIN:STANDARD
TZOFFSETFROM:-0400
TZOFFSETTO:-0500
TZNAME:EST
DTSTART:20251102T060000
END:STANDARD
BEGIN:DAYLIGHT
TZOFFSETFROM:-0500
TZOFFSETTO:-0400
TZNAME:EDT
DTSTART:20260308T070000
END:DAYLIGHT
BEGIN:STANDARD
TZOFFSETFROM:-0400
TZOFFSETTO:-0500
TZNAME:EST
DTSTART:20261101T060000
END:STANDARD
END:VTIMEZONE
BEGIN:VEVENT
DTSTART;TZID=America/Detroit:20240927T180000
DTEND;TZID=America/Detroit:20240927T193000
DTSTAMP:20260423T192929
CREATED:20240904T232902Z
LAST-MODIFIED:20240926T161923Z
UID:10000002-1727460000-1727465400@amayesinggraze.com
SUMMARY:Charcuterie Workshop | Tailgate Theme
DESCRIPTION:Join us at the Capital City Market in downtown Lansing for an evening of charcuterie board building! This class is for individuals looking to learn the basics of charcuterie board building with a TAILGATE TWIST: GO GREEN! Right before the BIG game\, show up to tailgate on Saturday with a board that is sure to impress your family and friends!\n.\nThis class will be held on September 27th at 6 p.m. It will teach charcuterie basics plus our favorite tips and tricks from Amayesing Graze. We will build a Game Day-themed board with delicious ingredients you can find at the Capital City Market! We will provide everything necessary to make and take a delightful 12″ round charcuterie board home to share with family and friends!\n.\nYour board will be a delightful mix of artisan cheeses\, various charcuterie\, themed favorites\, seasonal fruits\, nuts\, honey\, olives\, fresh herbs\, crackers\, and more\, offering a wide range of flavors and textures to excite your taste buds.\n.\nClass duration is approximately 1.5 hours. Space is limited.\n.\nFree parking can be found directly behind the Capital City Market!
URL:https://amayesinggraze.com/event/charcuterie-workshop-tailgate-theme/
LOCATION:Capital City Market\, 600 E Michigan Ave Suite 100\, Lansing\, 48912\, United States
CATEGORIES:Charcuterie Workshops
ATTACH;FMTTYPE=image/webp:https://amayesinggraze.com/wp-content/uploads/2024/09/Charcuterie-Class-Image_Main.webp
ORGANIZER;CN="Amayesing Graze":MAILTO:danielle@amayesinggraze.com
END:VEVENT
BEGIN:VEVENT
DTSTART;TZID=America/Detroit:20241104T174500
DTEND;TZID=America/Detroit:20241104T184500
DTSTAMP:20260423T192929
CREATED:20240905T213130Z
LAST-MODIFIED:20240905T213130Z
UID:10000003-1730742300-1730745900@amayesinggraze.com
SUMMARY:Charcuterie Workshop | Mason Community Education
DESCRIPTION:Learn the art of Charcuterie Board building with the Owner of Amayesing Graze\, Danielle Mayes. This class is for individuals looking to learn the basics of charcuterie board building. We will teach charcuterie basics plus favorite tips and tricks from Amayesing Graze. We will provide everything necessary to make and take a delicious disposable 8″ charcuterie board home to share with family and friends! Your board will have artisan cheeses\, charcuteries\, seasonal fruits\, nuts\, honey\, olives\, fresh herbs\, and more. Crackers always come on the side. \nOpen to anyone ages 16 – adult (small paring knives used in class). \nCost of Event: $60.00 \nLocation: The class will take place at Mason High School.
URL:https://amayesinggraze.com/event/charcuterie-workshop-mason-community-education/
LOCATION:Mason High School\, 1001 S. Barnes Street\, Mason\, 48854\, United States
CATEGORIES:Charcuterie Workshops
ATTACH;FMTTYPE=image/webp:https://amayesinggraze.com/wp-content/uploads/2024/09/Mason-Public-Schools.webp
ORGANIZER;CN="Amayesing Graze":MAILTO:danielle@amayesinggraze.com
END:VEVENT
BEGIN:VEVENT
DTSTART;TZID=America/Detroit:20241204T180000
DTEND;TZID=America/Detroit:20241204T190000
DTSTAMP:20260423T192929
CREATED:20241109T024201Z
LAST-MODIFIED:20241203T015244Z
UID:10000005-1733335200-1733338800@amayesinggraze.com
SUMMARY:Interactive Charcuterie Workshop | Festive Holiday Theme
DESCRIPTION:Start the holiday season with a fun and festive experience at Amayesing Graze’s Holiday Interactive Charcuterie Workshop. This workshop will be held at Capital City Market on December 4th at 6 p.m. This hands-on Charcuterie Workshop is the perfect way to learn how to create a holiday-inspired charcuterie board that will impress at any gathering. \nWhether a beginner or a seasoned charcuterie enthusiast\, this workshop will elevate your skills to make your charcuterie spread incredible. Under the expert guidance of Danielle Mayes\, owner of Amayesing Graze\, you’ll discover the art of creating a charcuterie board. You’ll learn the art of arranging premium cheeses\, cured meats\, fruits\, and various festive garnishes to capture the season’s spirit. You’ll also learn helpful tips and tricks to balance flavors\, textures\, and colors on your board. \n\n\n \n\nCharcuterie Workshop Description\nIn this one-hour Interactive Charcuterie Workshop\, you’ll sample delicious treats and gain knowledge and inspiration for future holiday gatherings. If you want to make a memorable holiday party appetizer\, this workshop will equip you with all the tools you need. By the end of the evening\, you’ll have crafted your own beautiful\, Instagram-worthy charcuterie board to take home and share! This event promises to teach you the art of charcuterie and get you into the holiday spirit with festive fun and plenty of holiday cheer.\n\nSpace is limited\, so be sure to reserve your spot today! Join us for an evening of creativity\, good company\, and delicious holiday treats in this Interactive Charcuterie Workshop. This is a perfect opportunity to gather with friends\, learn something new\, and get into the festive mood. Plus\, it’s a great way to kick off the season of giving—your beautifully crafted charcuterie board would make a thoughtful gift for someone special. \n\nWe offer two ticket options for this Interactive Charcuterie Workshop:\nOption 1: Individual Ticket – $75\nThis ticket is for one person and includes everything needed to attend the workshop and create one charcuterie board. \nOption 2: Couples Ticket – $100\nThis ticket is for two people and includes everything needed for both attendees to share and create one charcuterie board together. \nChoose the Interactive Charcuterie Workshop option that works best for you and your group! \nCharcuterie Workshop Grazing Board \nWe can’t wait to see you there for an unforgettable night of food\, fun\, and holiday magic!\n\nRead a blog by Pamela Patton written last year about Holiday Charcuterie Boards with Amayesing Graze and Capital City Market here.
URL:https://amayesinggraze.com/event/festive-holiday-charcuterie-workshop-lansing/
LOCATION:Capital City Market\, 600 E Michigan Ave Suite 100\, Lansing\, 48912\, United States
CATEGORIES:Charcuterie Workshops
ATTACH;FMTTYPE=image/webp:https://amayesinggraze.com/wp-content/uploads/2024/11/Holiday-Charcuterie.webp
ORGANIZER;CN="Amayesing Graze":MAILTO:danielle@amayesinggraze.com
END:VEVENT
BEGIN:VEVENT
DTSTART;TZID=America/Detroit:20241218T180000
DTEND;TZID=America/Detroit:20241218T193000
DTSTAMP:20260423T192929
CREATED:20241118T003836Z
LAST-MODIFIED:20241203T015541Z
UID:10000006-1734544800-1734550200@amayesinggraze.com
SUMMARY:Vineyard Vibes & Grazing Guides: Holiday Edition
DESCRIPTION:Step into the holiday spirit with Amayesing Graze at Graham Vineyards for a one-of-a-kind charcuterie workshop designed to elevate your entertaining game! Perfect for food lovers\, wine enthusiasts\, and anyone looking to add a touch of festive charm to their gatherings. This class is a must-attend experience to spark your creativity and delight your taste buds. \nIn the enchanting setting of Graham Vineyards\, you’ll learn the art of crafting a stunning holiday charcuterie board packed with gourmet meats\, artisanal cheeses\, seasonal fruits\, and festive touches. This isn’t just a class—it’s an experience! Whether you’re hosting a holiday party\, contributing to a family feast\, or creating an edible gift for someone special\, this workshop will arm you with the skills and inspiration to wow your guests and loved ones. \nDuring the class\, you’ll receive step-by-step guidance from the talented Danielle Mayes\, Owner of Amayesing Graze. You’ll learn to perfectly balance flavors\, select and pair ingredients\, and style your board with eye-catching holiday embellishments. Expect plenty of expert tips on presentation and pairing so your charcuterie board becomes the centerpiece of your celebration. \nThis interactive\, hands-on event is the ultimate blend of food\, wine\, and holiday cheer. Whether you’re a charcuterie enthusiast or a beginner looking to learn a new skill\, this class is designed to inspire and delight. Spaces are limited\, so don’t wait—reserve your spot now and get ready to sip\, snack\, and celebrate the holiday season in style! \n \nWine and Food Available at Graham Vineyards\nSo make sure you grab a glass of wine………. or two and enjoy the evening. Savor the season’s flavors as you sip\, learn\, and create. Plus\, you’ll leave with your beautifully crafted charcuterie board to take home—perfect for sharing (or not!) with family and friends. \nPlease take a look at their wine menu here or their food menu here. \nEvent Highlights:\n\nHands-on charcuterie board creation\nExpert tips for design\, pairing\, and presentation\nSeasonal ingredients and festive décor ideas\nA finished charcuterie board to take home and share\n\nSpaces are limited\, so don’t miss your chance to sip\, snack\, and celebrate the season in style. Reserve your spot today for an evening of holiday cheer\, culinary creativity\, and vineyard vibes!
URL:https://amayesinggraze.com/event/vineyard-vibes-grazing-guides-charcuterie-class-lansing/
LOCATION:Graham Vineyards\, 8920 W Britton Rd\, Laingsburg\, MI\, 48848\, United States
CATEGORIES:Charcuterie Workshops
ATTACH;FMTTYPE=image/webp:https://amayesinggraze.com/wp-content/uploads/2024/11/Wine-and-Charcuterie.webp
ORGANIZER;CN="Amayesing Graze":MAILTO:danielle@amayesinggraze.com
END:VEVENT
BEGIN:VEVENT
DTSTART;TZID=America/Detroit:20241221T140000
DTEND;TZID=America/Detroit:20241221T170000
DTSTAMP:20260423T192929
CREATED:20241122T040126Z
LAST-MODIFIED:20241122T054008Z
UID:10000008-1734789600-1734800400@amayesinggraze.com
SUMMARY:Charcuterie and Crafts | Design Deliciously Done
DESCRIPTION:Do you like charcuterie and crafting?\nPrepare for the ultimate holiday workshop experience as Amayesing Graze teams up with Board & Brush for a night of creativity\, flavor\, and festive fun! This unique collaboration brings together the best of both worlds: the art of charcuterie and the charm of DIY crafting. First\, under the expert guidance of Amayesing Graze\, you’ll learn how to design and assemble a stunning holiday-themed charcuterie board. From perfectly pairing cheeses and meats to incorporating seasonal fruits\, nuts\, and decorative touches\, you’ll master the skills to create a delicious and picture-perfect board for your next gathering. \nOnce your charcuterie masterpiece is complete\, the fun continues with a hands-on DIY crafting session to create a personalized project led by the talented team at Board & Brush\, all tailored to bring warmth and style to your home this season. By the end of the workshop\, you’ll walk away with two stunning creations: a ready-to-serve charcuterie board to share and a handmade craft to display. Don’t miss this one-of-a-kind opportunity to eat\, create\, and celebrate the holidays in style! \nTicket Pricing (Click the link to purchase). \nDIY Workshop with Amayesing Graze $105 \nAdd a second adult board only $40 \nAdditional project options for Charcuterie & Board $105 \nBoard and Brush Lansing is a licensed establishment.\nWine\, cider\, and spirits are available for purchase through the tasting room operated by Our Crafted Life.\nPlease note\, BYOB is not permitted. \nPre-registration is required for each person. Please click here to review our policies\, including those regarding cancellations.
URL:https://amayesinggraze.com/event/charcuterie-and-crafts-design-deliciously-done/
LOCATION:Board & Brush Lansing\, 723 Brookside Dr\, Lansing\, 48917\, United States
CATEGORIES:Charcuterie Workshops
ATTACH;FMTTYPE=image/webp:https://amayesinggraze.com/wp-content/uploads/2024/11/Board-and-Bruch-Class-Image-1.webp
ORGANIZER;CN="Amayesing Graze":MAILTO:danielle@amayesinggraze.com
END:VEVENT
BEGIN:VEVENT
DTSTART;TZID=America/Detroit:20241227T180000
DTEND;TZID=America/Detroit:20241227T193000
DTSTAMP:20260423T192929
CREATED:20241119T012325Z
LAST-MODIFIED:20241122T040815Z
UID:10000007-1735322400-1735327800@amayesinggraze.com
SUMMARY:Graze Expectations: A Festive NYE Charcuterie Class
DESCRIPTION:Kick off your New Year’s Eve celebrations in style by joining Amayesing Graze for a festive and fun charcuterie workshop at Woodward Corner Market on Friday\, December 27th. Whether you’re hosting the ultimate NYE party or just looking for a creative way to elevate your holiday entertaining\, this hands-on class will leave you with a show-stopping charcuterie board that’s as delicious as it is beautiful. \nDuring this interactive workshop\, you’ll learn the secrets to crafting a perfectly balanced charcuterie board brimming with gourmet cheeses\, savory meats\, seasonal fruits\, crunchy nuts\, and delightful garnishes. We’ll show you how to choose ingredients\, pair flavors and textures\, and arrange everything like a pro. You’ll also get tips on adding that extra New Year’s Eve sparkle with festive decorations and elegant finishing touches that will impress even the most discerning guests. \nNo experience? No problem! This class is designed for everyone—from charcuterie novices to seasoned snack board creators. With step-by-step guidance from our expert instructor\, you’ll walk away with newfound skills\, inspiration for future gatherings\, and your masterpiece to enjoy. \nThis class isn’t just about learning; it’s about celebrating! Gather your friends\, make it a date night\, or treat yourself to a little pre-holiday fun. It’s also the perfect gift for foodies\, hostesses\, or anyone who loves a little cheese and creativity. \nWhether creating a centerpiece for your New Year’s Eve countdown or just indulging in a delicious experience\, this workshop will surely be a highlight of your holiday season. Reserve your spot today—let’s graze into 2024 with style\, flavor\, and fun! Spaces are limited\, so don’t wait to join the party. 🥂🧀 \nWe offer two ticket options for this Interactive Charcuterie Workshop: \nOption 1: Individual Ticket – $75\nThis ticket is for one person and includes everything needed to attend the workshop and create one charcuterie board. \nOption 2: Couples Ticket – $100\nThis ticket is for two people and includes everything needed for both attendees to share and create one charcuterie board together. \nChoose the Interactive Charcuterie Workshop option that works best for you and your group!
URL:https://amayesinggraze.com/event/new-years-eve-charcuterie-class-royal-oak/
LOCATION:Woodward Corner Market\, 30955 Woodward Ave #305\, Royal Oak\, MI\, 48073\, United States
CATEGORIES:Charcuterie Workshops
ATTACH;FMTTYPE=image/webp:https://amayesinggraze.com/wp-content/uploads/2024/11/2025-Charcuterie-Class.webp
ORGANIZER;CN="Amayesing Graze":MAILTO:danielle@amayesinggraze.com
END:VEVENT
BEGIN:VEVENT
DTSTART;TZID=America/Detroit:20250212T180000
DTEND;TZID=America/Detroit:20250212T193000
DTSTAMP:20260423T192929
CREATED:20250115T014306Z
LAST-MODIFIED:20250115T014944Z
UID:10000011-1739383200-1739388600@amayesinggraze.com
SUMMARY:Gals\, Grapes & Grazing Boards | A Galentine’s Charcuterie Workshop
DESCRIPTION:Step into the spirit of friendship and fun with Amayesing Graze at Graham Vineyards for a one-of-a-kind charcuterie workshop designed to elevate your Galentine’s celebration! Perfect for food lovers\, wine enthusiasts\, and anyone looking to add a touch of creativity and charm to their gatherings. This class is an unforgettable experience to ignite your imagination and tantalize your taste buds. \nIn the enchanting setting of Graham Vineyards\, you’ll learn the art of crafting a stunning Galentine’s charcuterie board filled with gourmet meats\, artisanal cheeses\, fresh fruits\, and whimsical Valentine’s-inspired touches. This isn’t just a class—it’s a celebration of love\, laughter\, and friendship! Whether you’re hosting a Galentine’s soirée\, surprising your besties\, or treating yourself to a creative night out\, this workshop will arm you with the skills and inspiration to wow everyone. \nDuring the class\, you’ll receive step-by-step guidance from the talented Danielle Mayes\, Owner of Amayesing Graze. You’ll learn how to balance flavors\, pair premium ingredients\, and style your board with eye-catching Valentine’s embellishments. Expect plenty of expert tips on presentation and pairing\, so your charcuterie board becomes the centerpiece of your Galentine’s festivities. \nWine and Food Available at Graham Vineyards\nSo make sure you grab a glass of wine………. or two and enjoy the evening. Savor the season’s flavors as you sip\, learn\, and create. Plus\, you’ll leave with your beautifully crafted charcuterie board to take home—perfect for sharing (or not!) with family and friends. \nPlease take a look at their wine menu here or their food menu here. \nEvent Highlights:\n\nHands-on charcuterie board creation\nExpert tips for design\, pairing\, and presentation\nSeasonal ingredients and festive décor ideas\nA finished charcuterie board to take home and share\n\nTicket Options:\nWe offer two options for this interactive charcuterie workshop: \n\nOption 1: Individual Ticket – $75\nThis ticket is for one person and includes everything needed to attend the workshop and create one charcuterie board.\nOption 2: Couples Ticket – $100\nThis ticket is for two people and includes everything needed for both attendees to share and create one charcuterie board together.\n\nChoose the option that works best for you and your group\, and get ready to make this Valentine’s Day truly unforgettable! \nThis interactive\, hands-on event is the ultimate blend of food\, wine\, and Galentine’s joy. Whether you’re a charcuterie enthusiast or a beginner ready to learn something new\, this workshop is designed to inspire and delight. Spaces are limited\, so grab your favorite gals and reserve your spot now—get ready to sip\, snack\, and celebrate friendship in style!
URL:https://amayesinggraze.com/event/galentines-charcuterie-workshop/
LOCATION:Graham Vineyards\, 8920 W Britton Rd\, Laingsburg\, MI\, 48848\, United States
CATEGORIES:Charcuterie Workshops
ATTACH;FMTTYPE=image/webp:https://amayesinggraze.com/wp-content/uploads/2024/11/Wine-and-Charcuterie.webp
ORGANIZER;CN="Amayesing Graze":MAILTO:danielle@amayesinggraze.com
END:VEVENT
BEGIN:VEVENT
DTSTART;TZID=America/Detroit:20250213T180000
DTEND;TZID=America/Detroit:20250213T193000
DTSTAMP:20260423T192929
CREATED:20250113T013157Z
LAST-MODIFIED:20250113T013322Z
UID:10000010-1739469600-1739475000@amayesinggraze.com
SUMMARY:Love\, Cheese & Everything Nice: A Charcuterie Event
DESCRIPTION:Join us at the Woodward Corner Market in Royal Oak for an unforgettable evening of creativity\, connection\, and delicious flavors at Amayesing Graze’s Love\, Cheese & Everything Nice: A Charcuterie Event! This Valentine’s-themed charcuterie workshop is your chance to craft a stunning 12″ Sweetheart Board on a heart-shaped tray. Whether flying solo or sharing the experience with someone special\, you’ll leave with a masterpiece that feeds 2 to 4 people and memories to savor. \nWhat You’ll Create:\nYour very own 12″ Sweetheart Board\, complete with a curated selection of premium meats\, cheeses\, fresh fruits\, and festive Valentine’s-themed treats – all arranged on a reusable heart-shaped tray you’ll take home. \nTicket Options:\nWe offer two options for this interactive charcuterie workshop: \n\nOption 1: Individual Ticket – $75\nThis ticket is for one person and includes everything needed to attend the workshop and create one charcuterie board.\nOption 2: Couples Ticket – $100\nThis ticket is for two people and includes everything needed for both attendees to share and create one charcuterie board together.\n\nChoose the option that works best for you and your group\, and get ready to make this Valentine’s Day truly unforgettable! \nWhat’s Included:\n\nStep-by-step guidance to design and assemble a gorgeous Sweetheart Board.\nAll materials and ingredients for your charcuterie creation.\nTips and tricks to elevate your charcuterie skills.\nA  reusable heart-shaped 12″ tray to take home with your masterpiece.\nA fun\, relaxed atmosphere perfect for a date night\, self-care evening\, or bonding with friends!\n\nSpaces are limited\, so secure your spot today. Class starts promptly at 6:00 pm. Do not miss this chance to create something deliciously special with those you love. Let’s make this Valentine’s season Amayesing! \nRefund Policy\nFull Refund: Available if canceled before the class is sold out.\nNo Refunds: Once the class is sold out or if cancellation is within 7 days of the class.\nCredit Option: If the class is sold out but cancellation occurs before the 7-day window\, credit can be applied to a future class. \nThank you for your understanding and support!
URL:https://amayesinggraze.com/event/love-cheese-everything-nice-a-charcuterie-event/
LOCATION:Woodward Corner Market\, 30955 Woodward Ave #305\, Royal Oak\, MI\, 48073\, United States
CATEGORIES:Charcuterie Workshops
ATTACH;FMTTYPE=image/webp:https://amayesinggraze.com/wp-content/uploads/2025/01/Valentines-Board_Class.webp
ORGANIZER;CN="Amayesing Graze":MAILTO:danielle@amayesinggraze.com
END:VEVENT
BEGIN:VEVENT
DTSTART;TZID=America/Detroit:20250509T180000
DTEND;TZID=America/Detroit:20250509T190000
DTSTAMP:20260423T192929
CREATED:20250408T170909Z
LAST-MODIFIED:20250410T224137Z
UID:10000012-1746813600-1746817200@amayesinggraze.com
SUMMARY:A Cut Above: A Charcuterie Experience for Mom
DESCRIPTION:Join us for a heartwarming and hands-on celebration at Amayesing Graze’s “A Cut Above: A Charcuterie Experience for Mom” — the perfect way to treat yourself\, your mom\, or the amazing women in your life. This special event will take place at Capital City Market on May 9th at 6 p.m.\, offering an evening filled with creativity\, connection\, and delicious bites. \nWhether you’re new to the art of charcuterie or already love to craft stunning boards\, this workshop will help you elevate your skills and make something truly special. Led by Danielle Mayes\, founder of Amayesing Graze\, you’ll learn the art of building a beautiful and balanced charcuterie board — featuring premium cheeses\, cured meats\, fresh fruits\, and sweet touches inspired by spring and motherhood and all items you can purchase from the Capital City Market. \n\n\n \n\nCharcuterie Workshop Description\n\nOver the course of this one-hour interactive workshop\, you’ll sample tasty treats\, pick up expert tips and tricks\, and gain inspiration to recreate your own boards for future gatherings. Best of all\, you’ll walk away with your own handcrafted\, Instagram-worthy charcuterie board — perfect for sharing at a Mother’s Day brunch\, gifting to a loved one\, or simply enjoying at home. \nThis experience is ideal for moms\, daughters\, grandmothers\, aunties\, or friends — anyone looking to celebrate the women who make life Amayesing. Space is limited\, so be sure to reserve your spot early! \n\nWe offer two ticket options for this Interactive Charcuterie Workshop:\nOption 1: Individual Ticket – $75\nThis ticket is for one person and includes everything needed to attend the workshop and create one charcuterie board. \nOption 2: Couples Ticket – $100\nThis ticket is for two people and includes everything needed for both attendees to share and create one charcuterie board together. \nChoose the Interactive Charcuterie Workshop option that works best for you and your group! \nCharcuterie Workshop Grazing Board \n\nRead a blog written by Pamela Patton about Charcuterie Workshops with Amayesing Graze and Capital City Market here.
URL:https://amayesinggraze.com/event/a-cut-above-a-charcuterie-experience-for-mom/
LOCATION:Capital City Market\, 600 E Michigan Ave Suite 100\, Lansing\, 48912\, United States
CATEGORIES:Charcuterie Workshops
ATTACH;FMTTYPE=image/webp:https://amayesinggraze.com/wp-content/uploads/2025/04/mothers-day.webp
ORGANIZER;CN="Amayesing Graze":MAILTO:danielle@amayesinggraze.com
END:VEVENT
BEGIN:VEVENT
DTSTART;TZID=America/Detroit:20251207T160000
DTEND;TZID=America/Detroit:20251207T190000
DTSTAMP:20260423T192929
CREATED:20251110T004914Z
LAST-MODIFIED:20251206T224420Z
UID:10000015-1765123200-1765134000@amayesinggraze.com
SUMMARY:🎄 Let’s Get Festive with Charcuterie & Cookies! 🍪🧀
DESCRIPTION:Get into the holiday spirit with an evening of creativity\, flavor\, and fun! Join Coco’s Confections and Amayesing Graze for a hands-on workshop where you’ll learn the sweet art of sugar cookie decorating and the savory craft of charcuterie board styling. \nWe’ll provide everything you need—from cookies\, icing\, and sprinkles to gourmet cheeses\, meats\, and festive garnishes. All you need to bring is your holiday cheer! \n✨ When: Sunday\, December 7th | 4:00–7:00 PM📍 Where: Capital City Market\, 600 E. Michigan Ave\, Lansing \n💵 Cost: $105/per person or $155/couple🎟️ Tickets go on sale Tuesday\, November 11th! \nSip\, snack\, and create your own edible masterpieces while enjoying a relaxed\, holiday-inspired atmosphere. Perfect for date nights\, girls’ nights\, or a festive outing with friends!
URL:https://amayesinggraze.com/event/lets-get-festive-with-charcuterie-cookies/
LOCATION:Capital City Market\, 600 E Michigan Ave Suite 100\, Lansing\, 48912\, United States
CATEGORIES:Charcuterie Workshops
ATTACH;FMTTYPE=image/png:https://amayesinggraze.com/wp-content/uploads/2025/11/Lets-Get-Festive.png
END:VEVENT
END:VCALENDAR