BEGIN:VCALENDAR
VERSION:2.0
PRODID:-//Amayesing Graze - ECPv6.15.17//NONSGML v1.0//EN
CALSCALE:GREGORIAN
METHOD:PUBLISH
X-ORIGINAL-URL:https://amayesinggraze.com
X-WR-CALDESC:Events for Amayesing Graze
REFRESH-INTERVAL;VALUE=DURATION:PT1H
X-Robots-Tag:noindex
X-PUBLISHED-TTL:PT1H
BEGIN:VTIMEZONE
TZID:America/Detroit
BEGIN:DAYLIGHT
TZOFFSETFROM:-0500
TZOFFSETTO:-0400
TZNAME:EDT
DTSTART:20230312T070000
END:DAYLIGHT
BEGIN:STANDARD
TZOFFSETFROM:-0400
TZOFFSETTO:-0500
TZNAME:EST
DTSTART:20231105T060000
END:STANDARD
BEGIN:DAYLIGHT
TZOFFSETFROM:-0500
TZOFFSETTO:-0400
TZNAME:EDT
DTSTART:20240310T070000
END:DAYLIGHT
BEGIN:STANDARD
TZOFFSETFROM:-0400
TZOFFSETTO:-0500
TZNAME:EST
DTSTART:20241103T060000
END:STANDARD
BEGIN:DAYLIGHT
TZOFFSETFROM:-0500
TZOFFSETTO:-0400
TZNAME:EDT
DTSTART:20250309T070000
END:DAYLIGHT
BEGIN:STANDARD
TZOFFSETFROM:-0400
TZOFFSETTO:-0500
TZNAME:EST
DTSTART:20251102T060000
END:STANDARD
END:VTIMEZONE
BEGIN:VEVENT
DTSTART;TZID=America/Detroit:20241221T140000
DTEND;TZID=America/Detroit:20241221T170000
DTSTAMP:20260424T155900
CREATED:20241122T040126Z
LAST-MODIFIED:20241122T054008Z
UID:10000008-1734789600-1734800400@amayesinggraze.com
SUMMARY:Charcuterie and Crafts | Design Deliciously Done
DESCRIPTION:Do you like charcuterie and crafting?\nPrepare for the ultimate holiday workshop experience as Amayesing Graze teams up with Board & Brush for a night of creativity\, flavor\, and festive fun! This unique collaboration brings together the best of both worlds: the art of charcuterie and the charm of DIY crafting. First\, under the expert guidance of Amayesing Graze\, you’ll learn how to design and assemble a stunning holiday-themed charcuterie board. From perfectly pairing cheeses and meats to incorporating seasonal fruits\, nuts\, and decorative touches\, you’ll master the skills to create a delicious and picture-perfect board for your next gathering. \nOnce your charcuterie masterpiece is complete\, the fun continues with a hands-on DIY crafting session to create a personalized project led by the talented team at Board & Brush\, all tailored to bring warmth and style to your home this season. By the end of the workshop\, you’ll walk away with two stunning creations: a ready-to-serve charcuterie board to share and a handmade craft to display. Don’t miss this one-of-a-kind opportunity to eat\, create\, and celebrate the holidays in style! \nTicket Pricing (Click the link to purchase). \nDIY Workshop with Amayesing Graze $105 \nAdd a second adult board only $40 \nAdditional project options for Charcuterie & Board $105 \nBoard and Brush Lansing is a licensed establishment.\nWine\, cider\, and spirits are available for purchase through the tasting room operated by Our Crafted Life.\nPlease note\, BYOB is not permitted. \nPre-registration is required for each person. Please click here to review our policies\, including those regarding cancellations.
URL:https://amayesinggraze.com/event/charcuterie-and-crafts-design-deliciously-done/
LOCATION:Board & Brush Lansing\, 723 Brookside Dr\, Lansing\, 48917\, United States
CATEGORIES:Charcuterie Workshops
ATTACH;FMTTYPE=image/webp:https://amayesinggraze.com/wp-content/uploads/2024/11/Board-and-Bruch-Class-Image-1.webp
ORGANIZER;CN="Amayesing Graze":MAILTO:danielle@amayesinggraze.com
END:VEVENT
END:VCALENDAR